BEGIN:VCALENDAR
VERSION:2.0
PRODID:-//Hay House Macon - ECPv6.6.4.2//NONSGML v1.0//EN
CALSCALE:GREGORIAN
METHOD:PUBLISH
X-WR-CALNAME:Hay House Macon
X-ORIGINAL-URL:https://www.hayhousemacon.org
X-WR-CALDESC:Events for Hay House Macon
REFRESH-INTERVAL;VALUE=DURATION:PT1H
X-Robots-Tag:noindex
X-PUBLISHED-TTL:PT1H
BEGIN:VTIMEZONE
TZID:America/New_York
BEGIN:DAYLIGHT
TZOFFSETFROM:-0500
TZOFFSETTO:-0400
TZNAME:EDT
DTSTART:20250309T070000
END:DAYLIGHT
BEGIN:STANDARD
TZOFFSETFROM:-0400
TZOFFSETTO:-0500
TZNAME:EST
DTSTART:20251102T060000
END:STANDARD
END:VTIMEZONE
BEGIN:VEVENT
DTSTART;TZID=America/New_York:20250614T101500
DTEND;TZID=America/New_York:20250614T120000
DTSTAMP:20260421T035910
CREATED:20250107T165316Z
LAST-MODIFIED:20260114T180134Z
UID:18513-1749896100-1749902400@www.hayhousemacon.org
SUMMARY:Behind the Scenes
DESCRIPTION:BTS Tour\nSecond and Fourth Saturdays of the Month\n10:15 a.m.\nThis specialty tour provides guests with a behind-the-scenes look at areas of Hay House that are not accessible on the regular tour. Guests will have the opportunity to see the wine cellar\, secret room\, balcony\, and attic. The spectacular 360-degree view of Macon from the widow’s walk is a must-see! This tour lasts approximately 2 hours. \nThere are many stairs in the house. Though the building is wheelchair accessible and has a small elevator\, there are still many stairs involved on this tour. The house’s elevator only goes to the 3rd level. Behind-the-Scenes tours cover all seven levels\, so dress comfortably! \nEvent ticket: $45 per person\nReservations with advanced payment are required. Registration is limited to 15 people maximum.
URL:https://www.hayhousemacon.org/event/behind-the-scenes/2025-06-14/
LOCATION:Hay House\, 934 Georgia Ave\, Macon\, Georgia\, 31201
ATTACH;FMTTYPE=image/jpeg:https://www.hayhousemacon.org/wp-content/uploads/2022/01/BTS-Secret-Room-002-3-e1641495775429.jpg
GEO:32.8402977;-83.6336246
X-APPLE-STRUCTURED-LOCATION;VALUE=URI;X-ADDRESS=Hay House 934 Georgia Ave Macon Georgia 31201;X-APPLE-RADIUS=500;X-TITLE=934 Georgia Ave:geo:-83.6336246,32.8402977
END:VEVENT
BEGIN:VEVENT
DTSTART;TZID=America/New_York:20250616T090000
DTEND;TZID=America/New_York:20250616T150000
DTSTAMP:20260421T035910
CREATED:20250506T153123Z
LAST-MODIFIED:20250506T153231Z
UID:19460-1750064400-1750086000@www.hayhousemacon.org
SUMMARY:Architecture Detective Summer Camp
DESCRIPTION:Join us for an engaging one-week day camp at the Johnston-Felton-Hay House\, designed for children ages 9-12 who have a curiosity about history and preservation! Campers will explore Macon’s architectural heritage\, learning about different styles and the significance of preserving historical structures. \nHighlights of the camp include: \n\nA van tour with Visit Macon\, tracing the area’s history from its earliest settlements at the site of what is now Ocmulgee Mounds National Historical Park.\nHands-on learning about architectural and painting finishes.\nA creative experience at Historic Macon’s Second Street workshop\, where campers will discover and design their own projects.\n\nBy the end of the week\, participants will have a deeper appreciation for how the past shapes our present and why it’s essential to preserve it for future generations. \nRates and Payment: Fee is $185. The last date for a refund is May 31\, 2025\, minus $25 processing fee. \nQuestions? Contact eevans@georgiatrust.org or dgoss@georgiatrust.org
URL:https://www.hayhousemacon.org/event/architecture-detective-summer-camp/2025-06-16/
LOCATION:Hay House\, 934 Georgia Ave\, Macon\, Georgia\, 31201
ATTACH;FMTTYPE=image/jpeg:https://www.hayhousemacon.org/wp-content/uploads/2025/05/2025-summer-camp.jpg
GEO:32.8402977;-83.6336246
X-APPLE-STRUCTURED-LOCATION;VALUE=URI;X-ADDRESS=Hay House 934 Georgia Ave Macon Georgia 31201;X-APPLE-RADIUS=500;X-TITLE=934 Georgia Ave:geo:-83.6336246,32.8402977
END:VEVENT
BEGIN:VEVENT
DTSTART;TZID=America/New_York:20250617T090000
DTEND;TZID=America/New_York:20250617T150000
DTSTAMP:20260421T035910
CREATED:20250506T153123Z
LAST-MODIFIED:20250506T153232Z
UID:19462-1750150800-1750172400@www.hayhousemacon.org
SUMMARY:Architecture Detective Summer Camp
DESCRIPTION:Join us for an engaging one-week day camp at the Johnston-Felton-Hay House\, designed for children ages 9-12 who have a curiosity about history and preservation! Campers will explore Macon’s architectural heritage\, learning about different styles and the significance of preserving historical structures. \nHighlights of the camp include: \n\nA van tour with Visit Macon\, tracing the area’s history from its earliest settlements at the site of what is now Ocmulgee Mounds National Historical Park.\nHands-on learning about architectural and painting finishes.\nA creative experience at Historic Macon’s Second Street workshop\, where campers will discover and design their own projects.\n\nBy the end of the week\, participants will have a deeper appreciation for how the past shapes our present and why it’s essential to preserve it for future generations. \nRates and Payment: Fee is $185. The last date for a refund is May 31\, 2025\, minus $25 processing fee. \nQuestions? Contact eevans@georgiatrust.org or dgoss@georgiatrust.org
URL:https://www.hayhousemacon.org/event/architecture-detective-summer-camp/2025-06-17/
LOCATION:Hay House\, 934 Georgia Ave\, Macon\, Georgia\, 31201
ATTACH;FMTTYPE=image/jpeg:https://www.hayhousemacon.org/wp-content/uploads/2025/05/2025-summer-camp.jpg
GEO:32.8402977;-83.6336246
X-APPLE-STRUCTURED-LOCATION;VALUE=URI;X-ADDRESS=Hay House 934 Georgia Ave Macon Georgia 31201;X-APPLE-RADIUS=500;X-TITLE=934 Georgia Ave:geo:-83.6336246,32.8402977
END:VEVENT
BEGIN:VEVENT
DTSTART;TZID=America/New_York:20250618T090000
DTEND;TZID=America/New_York:20250618T150000
DTSTAMP:20260421T035910
CREATED:20250506T153123Z
LAST-MODIFIED:20250506T153233Z
UID:19463-1750237200-1750258800@www.hayhousemacon.org
SUMMARY:Architecture Detective Summer Camp
DESCRIPTION:Join us for an engaging one-week day camp at the Johnston-Felton-Hay House\, designed for children ages 9-12 who have a curiosity about history and preservation! Campers will explore Macon’s architectural heritage\, learning about different styles and the significance of preserving historical structures. \nHighlights of the camp include: \n\nA van tour with Visit Macon\, tracing the area’s history from its earliest settlements at the site of what is now Ocmulgee Mounds National Historical Park.\nHands-on learning about architectural and painting finishes.\nA creative experience at Historic Macon’s Second Street workshop\, where campers will discover and design their own projects.\n\nBy the end of the week\, participants will have a deeper appreciation for how the past shapes our present and why it’s essential to preserve it for future generations. \nRates and Payment: Fee is $185. The last date for a refund is May 31\, 2025\, minus $25 processing fee. \nQuestions? Contact eevans@georgiatrust.org or dgoss@georgiatrust.org
URL:https://www.hayhousemacon.org/event/architecture-detective-summer-camp/2025-06-18/
LOCATION:Hay House\, 934 Georgia Ave\, Macon\, Georgia\, 31201
ATTACH;FMTTYPE=image/jpeg:https://www.hayhousemacon.org/wp-content/uploads/2025/05/2025-summer-camp.jpg
GEO:32.8402977;-83.6336246
X-APPLE-STRUCTURED-LOCATION;VALUE=URI;X-ADDRESS=Hay House 934 Georgia Ave Macon Georgia 31201;X-APPLE-RADIUS=500;X-TITLE=934 Georgia Ave:geo:-83.6336246,32.8402977
END:VEVENT
BEGIN:VEVENT
DTSTART;TZID=America/New_York:20250619T090000
DTEND;TZID=America/New_York:20250619T150000
DTSTAMP:20260421T035910
CREATED:20250506T153123Z
LAST-MODIFIED:20250506T153233Z
UID:19464-1750323600-1750345200@www.hayhousemacon.org
SUMMARY:Architecture Detective Summer Camp
DESCRIPTION:Join us for an engaging one-week day camp at the Johnston-Felton-Hay House\, designed for children ages 9-12 who have a curiosity about history and preservation! Campers will explore Macon’s architectural heritage\, learning about different styles and the significance of preserving historical structures. \nHighlights of the camp include: \n\nA van tour with Visit Macon\, tracing the area’s history from its earliest settlements at the site of what is now Ocmulgee Mounds National Historical Park.\nHands-on learning about architectural and painting finishes.\nA creative experience at Historic Macon’s Second Street workshop\, where campers will discover and design their own projects.\n\nBy the end of the week\, participants will have a deeper appreciation for how the past shapes our present and why it’s essential to preserve it for future generations. \nRates and Payment: Fee is $185. The last date for a refund is May 31\, 2025\, minus $25 processing fee. \nQuestions? Contact eevans@georgiatrust.org or dgoss@georgiatrust.org
URL:https://www.hayhousemacon.org/event/architecture-detective-summer-camp/2025-06-19/
LOCATION:Hay House\, 934 Georgia Ave\, Macon\, Georgia\, 31201
ATTACH;FMTTYPE=image/jpeg:https://www.hayhousemacon.org/wp-content/uploads/2025/05/2025-summer-camp.jpg
GEO:32.8402977;-83.6336246
X-APPLE-STRUCTURED-LOCATION;VALUE=URI;X-ADDRESS=Hay House 934 Georgia Ave Macon Georgia 31201;X-APPLE-RADIUS=500;X-TITLE=934 Georgia Ave:geo:-83.6336246,32.8402977
END:VEVENT
BEGIN:VEVENT
DTSTART;TZID=America/New_York:20250620T090000
DTEND;TZID=America/New_York:20250620T150000
DTSTAMP:20260421T035910
CREATED:20250506T153123Z
LAST-MODIFIED:20250506T153233Z
UID:19465-1750410000-1750431600@www.hayhousemacon.org
SUMMARY:Architecture Detective Summer Camp
DESCRIPTION:Join us for an engaging one-week day camp at the Johnston-Felton-Hay House\, designed for children ages 9-12 who have a curiosity about history and preservation! Campers will explore Macon’s architectural heritage\, learning about different styles and the significance of preserving historical structures. \nHighlights of the camp include: \n\nA van tour with Visit Macon\, tracing the area’s history from its earliest settlements at the site of what is now Ocmulgee Mounds National Historical Park.\nHands-on learning about architectural and painting finishes.\nA creative experience at Historic Macon’s Second Street workshop\, where campers will discover and design their own projects.\n\nBy the end of the week\, participants will have a deeper appreciation for how the past shapes our present and why it’s essential to preserve it for future generations. \nRates and Payment: Fee is $185. The last date for a refund is May 31\, 2025\, minus $25 processing fee. \nQuestions? Contact eevans@georgiatrust.org or dgoss@georgiatrust.org
URL:https://www.hayhousemacon.org/event/architecture-detective-summer-camp/2025-06-20/
LOCATION:Hay House\, 934 Georgia Ave\, Macon\, Georgia\, 31201
ATTACH;FMTTYPE=image/jpeg:https://www.hayhousemacon.org/wp-content/uploads/2025/05/2025-summer-camp.jpg
GEO:32.8402977;-83.6336246
X-APPLE-STRUCTURED-LOCATION;VALUE=URI;X-ADDRESS=Hay House 934 Georgia Ave Macon Georgia 31201;X-APPLE-RADIUS=500;X-TITLE=934 Georgia Ave:geo:-83.6336246,32.8402977
END:VEVENT
BEGIN:VEVENT
DTSTART;TZID=America/New_York:20250628T101500
DTEND;TZID=America/New_York:20250628T120000
DTSTAMP:20260421T035910
CREATED:20250107T165316Z
LAST-MODIFIED:20260114T180134Z
UID:19386-1751105700-1751112000@www.hayhousemacon.org
SUMMARY:Behind the Scenes
DESCRIPTION:BTS Tour\nSecond and Fourth Saturdays of the Month\n10:15 a.m.\nThis specialty tour provides guests with a behind-the-scenes look at areas of Hay House that are not accessible on the regular tour. Guests will have the opportunity to see the wine cellar\, secret room\, balcony\, and attic. The spectacular 360-degree view of Macon from the widow’s walk is a must-see! This tour lasts approximately 2 hours. \nThere are many stairs in the house. Though the building is wheelchair accessible and has a small elevator\, there are still many stairs involved on this tour. The house’s elevator only goes to the 3rd level. Behind-the-Scenes tours cover all seven levels\, so dress comfortably! \nEvent ticket: $45 per person\nReservations with advanced payment are required. Registration is limited to 15 people maximum.
URL:https://www.hayhousemacon.org/event/behind-the-scenes/2025-06-28/
LOCATION:Hay House\, 934 Georgia Ave\, Macon\, Georgia\, 31201
ATTACH;FMTTYPE=image/jpeg:https://www.hayhousemacon.org/wp-content/uploads/2022/01/BTS-Secret-Room-002-3-e1641495775429.jpg
GEO:32.8402977;-83.6336246
X-APPLE-STRUCTURED-LOCATION;VALUE=URI;X-ADDRESS=Hay House 934 Georgia Ave Macon Georgia 31201;X-APPLE-RADIUS=500;X-TITLE=934 Georgia Ave:geo:-83.6336246,32.8402977
END:VEVENT
END:VCALENDAR